BEGIN:VCALENDAR
VERSION:2.0
PRODID:-//ButtonWood UMC Church - ECPv6.15.20//NONSGML v1.0//EN
CALSCALE:GREGORIAN
METHOD:PUBLISH
X-WR-CALNAME:ButtonWood UMC Church
X-ORIGINAL-URL:https://buttonwoodumc.com
X-WR-CALDESC:Events for ButtonWood UMC Church
REFRESH-INTERVAL;VALUE=DURATION:PT1H
X-Robots-Tag:noindex
X-PUBLISHED-TTL:PT1H
BEGIN:VTIMEZONE
TZID:UTC
BEGIN:STANDARD
TZOFFSETFROM:+0000
TZOFFSETTO:+0000
TZNAME:UTC
DTSTART:20250101T000000
END:STANDARD
END:VTIMEZONE
BEGIN:VEVENT
DTSTART;TZID=UTC:20260301T110000
DTEND;TZID=UTC:20260301T130000
DTSTAMP:20260419T151139
CREATED:20260129T020156Z
LAST-MODIFIED:20260129T020156Z
UID:1163-1772362800-1772370000@buttonwoodumc.com
SUMMARY:MEN'S DAY
DESCRIPTION:
URL:https://buttonwoodumc.com/event/mens-day/
LOCATION:Buttonwood UMC\, 22 Buttonwood Ave\, New Castle\, DE\, 19720\, United States
END:VEVENT
END:VCALENDAR